BEGIN:VCALENDAR
VERSION:2.0
PRODID:icalendar-ruby
CALSCALE:GREGORIAN
METHOD:PUBLISH
BEGIN:VEVENT
DTSTAMP:20260420T055755Z
UID:5-2138572@redemptionlife.tithelysetup2.com
DTSTART:20260809T180000Z
DTEND:20260809T190000Z
CLASS:PUBLIC
CREATED:20260413T122402
DESCRIPTION:Sunday Worship
LAST-MODIFIED:20260413T122402
LOCATION:
SUMMARY:Sunday Worship
URL;VALUE=URI:https://redemptionlife.tithelysetup2.com/events/sunday-worshi
 p/2026-08-09
END:VEVENT
END:VCALENDAR
